BEGIN:VCALENDAR
VERSION:2.0
PRODID:-//Concordia Lutheran Church Chicago - ECPv6.15.1.1//NONSGML v1.0//EN
CALSCALE:GREGORIAN
METHOD:PUBLISH
X-ORIGINAL-URL:https://concordiafaith.org
X-WR-CALDESC:Events for Concordia Lutheran Church Chicago
REFRESH-INTERVAL;VALUE=DURATION:PT1H
X-Robots-Tag:noindex
X-PUBLISHED-TTL:PT1H
BEGIN:VTIMEZONE
TZID:UTC
BEGIN:STANDARD
TZOFFSETFROM:+0000
TZOFFSETTO:+0000
TZNAME:UTC
DTSTART:20250101T000000
END:STANDARD
END:VTIMEZONE
BEGIN:VEVENT
DTSTART;TZID=UTC:20250511T120000
DTEND;TZID=UTC:20250511T130000
DTSTAMP:20260423T134438
CREATED:20240903T185037Z
LAST-MODIFIED:20240903T185037Z
UID:4520-1746964800-1746968400@concordiafaith.org
SUMMARY:Second Sundays: Concordia Choir
DESCRIPTION:This month\, we’re celebrating and honoring the talents of our own special Concordia Church choir! With vocalists\, be delighted by the sounds of this special ensemble that provides beautiful music for Concordia Church each Sunday morning. This is a free concert for the public.
URL:https://concordiafaith.org/event/second-sundays-concordia-choir/
LOCATION:Concordia Church on Seeley\, 3855 N. Seeley Ave.\, Chicago\, IL\, 60618\, United States
CATEGORIES:Concerts
ATTACH;FMTTYPE=image/jpeg:https://concordiafaith.org/wp-content/uploads/2024/09/FullSizeRender-scaled.jpg
END:VEVENT
END:VCALENDAR