BEGIN:VCALENDAR
VERSION:2.0
PRODID:-//Concordia Lutheran Church Chicago - ECPv6.15.1.1//NONSGML v1.0//EN
CALSCALE:GREGORIAN
METHOD:PUBLISH
X-ORIGINAL-URL:https://concordiafaith.org
X-WR-CALDESC:Events for Concordia Lutheran Church Chicago
REFRESH-INTERVAL;VALUE=DURATION:PT1H
X-Robots-Tag:noindex
X-PUBLISHED-TTL:PT1H
BEGIN:VTIMEZONE
TZID:UTC
BEGIN:STANDARD
TZOFFSETFROM:+0000
TZOFFSETTO:+0000
TZNAME:UTC
DTSTART:20250101T000000
END:STANDARD
END:VTIMEZONE
BEGIN:VEVENT
DTSTART;TZID=UTC:20250309T120000
DTEND;TZID=UTC:20250309T130000
DTSTAMP:20260421T141623
CREATED:20240903T183355Z
LAST-MODIFIED:20240903T183355Z
UID:4514-1741521600-1741525200@concordiafaith.org
SUMMARY:Second Sundays: Andrew Marlin\, bassoon
DESCRIPTION:Join us for our March ‘Second Sundays’ concert as we enjoy a performance by Andrew Marlin on bassoon. This is a free concert for the public.
URL:https://concordiafaith.org/event/second-sundays-andrew-marlin-bassoon/
LOCATION:Concordia Church on Seeley\, 3855 N. Seeley Ave.\, Chicago\, IL\, 60618\, United States
CATEGORIES:Concerts
ATTACH;FMTTYPE=image/jpeg:https://concordiafaith.org/wp-content/uploads/2024/09/Andrew-Marlin-headshot.jpg
END:VEVENT
END:VCALENDAR